BEGIN:VCALENDAR
VERSION:2.0
PRODID:-//hacksw/handcal//NONSGML v1.0//EN
CALSCALE:GREGORIAN
BEGIN:VEVENT
DTEND;TZID=Europe/Vienna:20260831T200000
UID:69e73cc3b41cd
DTSTAMP;TZID=Europe/Vienna:20260421T110051
DESCRIPTION:Umstieg A1 A2 A
SUMMARY:Umstieg A1 A2 A
DTSTART;TZID=Europe/Vienna:20260831T130000
END:VEVENT
BEGIN:VEVENT
DTEND;TZID=Europe/Vienna:20260831T200000
UID:69e73cc3b4236
DTSTAMP;TZID=Europe/Vienna:20260421T110051
DESCRIPTION:Umstieg A1 A2 A
SUMMARY:Umstieg A1 A2 A
DTSTART;TZID=Europe/Vienna:20260831T130000
END:VEVENT
END:VCALENDAR