BEGIN:VCALENDAR
VERSION:2.0
PRODID:-//hacksw/handcal//NONSGML v1.0//EN
CALSCALE:GREGORIAN
BEGIN:VEVENT
DTEND;TZID=Europe/Vienna:20260813T200000
UID:69e740d8af5c8
DTSTAMP;TZID=Europe/Vienna:20260421T111816
DESCRIPTION:Umstieg A1 A2 A
SUMMARY:Umstieg A1 A2 A
DTSTART;TZID=Europe/Vienna:20260813T130000
END:VEVENT
BEGIN:VEVENT
DTEND;TZID=Europe/Vienna:20260813T200000
UID:69e740d8af5eb
DTSTAMP;TZID=Europe/Vienna:20260421T111816
DESCRIPTION:Umstieg A1 A2 A
SUMMARY:Umstieg A1 A2 A
DTSTART;TZID=Europe/Vienna:20260813T130000
END:VEVENT
END:VCALENDAR