BEGIN:VCALENDAR
VERSION:2.0
PRODID:-//hacksw/handcal//NONSGML v1.0//EN
CALSCALE:GREGORIAN
BEGIN:VEVENT
DTEND;TZID=Europe/Vienna:20260622T200000
UID:69e73d85016ab
DTSTAMP;TZID=Europe/Vienna:20260421T110405
DESCRIPTION:Umstieg A1 A2 A
SUMMARY:Umstieg A1 A2 A
DTSTART;TZID=Europe/Vienna:20260622T130000
END:VEVENT
BEGIN:VEVENT
DTEND;TZID=Europe/Vienna:20260622T200000
UID:69e73d850170d
DTSTAMP;TZID=Europe/Vienna:20260421T110405
DESCRIPTION:Umstieg A1 A2 A
SUMMARY:Umstieg A1 A2 A
DTSTART;TZID=Europe/Vienna:20260622T130000
END:VEVENT
END:VCALENDAR