BEGIN:VCALENDAR
VERSION:2.0
PRODID:-//hacksw/handcal//NONSGML v1.0//EN
CALSCALE:GREGORIAN
BEGIN:VEVENT
DTEND;TZID=Europe/Vienna:20260518T200000
UID:69e73ffa7903f
DTSTAMP;TZID=Europe/Vienna:20260421T111434
DESCRIPTION:Umstieg A1 A2 A
SUMMARY:Umstieg A1 A2 A
DTSTART;TZID=Europe/Vienna:20260518T130000
END:VEVENT
BEGIN:VEVENT
DTEND;TZID=Europe/Vienna:20260518T200000
UID:69e73ffa790a1
DTSTAMP;TZID=Europe/Vienna:20260421T111434
DESCRIPTION:Umstieg A1 A2 A
SUMMARY:Umstieg A1 A2 A
DTSTART;TZID=Europe/Vienna:20260518T130000
END:VEVENT
END:VCALENDAR